BEGIN:VCALENDAR
VERSION:2.0
PRODID:-//wp-events-plugin.com//7.2.3.1//EN
BEGIN:VEVENT
UID:79@karate-dojo-feldkirchen.de
DTSTART:20150114T160000Z
DTEND:20150114T170000Z
DTSTAMP:20141207T103954Z
URL:https://www.karate-dojo-feldkirchen.de/veranstaltungen/anfaengerkurs-e
 rwachsene/
SUMMARY:Anfängerkurs Erwachsene
DESCRIPTION:Teilnahme ab 25 Jahren.\n\n10 Termine\, jeweils Mittwoch von 18
 :00 Uhr bis 19:00 Uhr.\n\nBeginn am 14.01.2015
CATEGORIES:Anfängerkurse
LOCATION:Mehrzeckhalle Feldkirchen\, Hierlbacher Straße 2\, Feldkirchen\, 
 Bayern\, 94351\, Deutschland
GEO:48.83814;12.529049999999984
X-APPLE-STRUCTURED-LOCATION;VALUE=URI;X-ADDRESS=Hierlbacher Straße 2\, Fel
 dkirchen\, Bayern\, 94351\, Deutschland;X-APPLE-RADIUS=100;X-TITLE=Mehrzec
 khalle Feldkirchen:geo:48.83814,12.529049999999984
END:VEVENT
END:VCALENDAR