BEGIN:VCALENDAR
VERSION:2.0
PRODID:-//wp-events-plugin.com//7.2.3.1//EN
BEGIN:VEVENT
UID:333@karate-dojo-feldkirchen.de
DTSTART:20241108T150000Z
DTEND:20241108T160000Z
DTSTAMP:20241023T083534Z
URL:https://www.karate-dojo-feldkirchen.de/veranstaltungen/anfaengerkurs-f
 uer-jugendliche-2/
SUMMARY:Anfängerkurs für Kinder
DESCRIPTION:\n\n\n\nSpielerisch stark – Karate für kleine Helden ab der 
 1. Klasse! Starte diesen Herbst und entdecke die Welt des Karate auf eine 
 spannende und kindgerechte Art!\n\n\n\n\n\n\n\n\nBeginn: ab 08.11.2024\n\n
 \n\n\n\n\n\nZeit: freitags von 17:00 bis 18:00 Uhr\nZielgruppe: Kinder ab 
 der 1. Klasse (mind. 8 Teilnehmer)\nOrt: Mehrzweckhalle Feldkirchen (Hier
 lbacherstraße 2)\n\nAnmeldung: 0160/96497793 oder info@oshiro-dojo-feldki
 rchen.de\n\n
CATEGORIES:Anfängerkurse
LOCATION:Mehrzweckhalle\, Hierlbacher Straße 2\, Feldkirchen\, Bayern\, 94
 351\, Deutschland
GEO:48.83814;12.529049999999984
X-APPLE-STRUCTURED-LOCATION;VALUE=URI;X-ADDRESS=Hierlbacher Straße 2\, Fel
 dkirchen\, Bayern\, 94351\, Deutschland;X-APPLE-RADIUS=100;X-TITLE=Mehrzwe
 ckhalle:geo:48.83814,12.529049999999984
END:VEVENT
END:VCALENDAR