BEGIN:VCALENDAR
VERSION:2.0
PRODID:-//wp-events-plugin.com//7.2.3.1//EN
BEGIN:VEVENT
UID:312@karate-dojo-feldkirchen.de
DTSTART;VALUE=DATE:20240602
DTEND;VALUE=DATE:20240603
DTSTAMP:20240107T142724Z
URL:https://www.karate-dojo-feldkirchen.de/veranstaltungen/ascania-cup-2/
SUMMARY:Ascania-Cup
DESCRIPTION:
CATEGORIES:Turnier
LOCATION:Aschersleben\, Magdeburger Straße 22\, Aschersleben\, 06449\, Deu
 tschland
GEO:51.75909619999999;11.450650900000028
X-APPLE-STRUCTURED-LOCATION;VALUE=URI;X-ADDRESS=Magdeburger Straße 22\, As
 chersleben\, 06449\, Deutschland;X-APPLE-RADIUS=100;X-TITLE=Aschersleben:g
 eo:51.75909619999999,11.450650900000028
END:VEVENT
END:VCALENDAR