BEGIN:VCALENDAR
VERSION:2.0
PRODID:-//wp-events-plugin.com//7.2.3.1//EN
BEGIN:VEVENT
UID:34@karate-dojo-feldkirchen.de
DTSTART:20140516T220000Z
DTEND:20140517T220000Z
DTSTAMP:20131123T105038Z
URL:https://www.karate-dojo-feldkirchen.de/veranstaltungen/ascania-cup-201
 4/
SUMMARY:Ascania Cup 2014
DESCRIPTION:
CATEGORIES:Turnier
LOCATION:Aschersleben\, Magdeburger Straße 22\, Aschersleben\, 06449\, Deu
 tschland
GEO:51.75909619999999;11.450650900000028
X-APPLE-STRUCTURED-LOCATION;VALUE=URI;X-ADDRESS=Magdeburger Straße 22\, As
 chersleben\, 06449\, Deutschland;X-APPLE-RADIUS=100;X-TITLE=Aschersleben:g
 eo:51.75909619999999,11.450650900000028
END:VEVENT
END:VCALENDAR