BEGIN:VCALENDAR
VERSION:2.0
PRODID:-//wp-events-plugin.com//7.2.3.1//EN
BEGIN:VEVENT
UID:42@karate-dojo-feldkirchen.de
DTSTART:20140102T120000Z
DTEND:20140102T170000Z
DTSTAMP:20131209T144717Z
URL:https://www.karate-dojo-feldkirchen.de/veranstaltungen/ausschusssitzun
 garbeitseinsatz-vereinschronik/
SUMMARY:Ausschusssitzung/Arbeitseinsatz Vereinschronik
DESCRIPTION:Für Vereinsausschuss/Vorstandschaft - Laptops und Vereinsunter
 lagen mitbringen!
CATEGORIES:Ausschusssitzung,Vorstandssitzung
LOCATION:Am Müllerberg\, Am Müllerberg 8b\, Feldkirchen\, Bayern\, 94351\
 , Deutschland
GEO:48.83691959999999;12.530326400000035
X-APPLE-STRUCTURED-LOCATION;VALUE=URI;X-ADDRESS=Am Müllerberg 8b\, Feldkir
 chen\, Bayern\, 94351\, Deutschland;X-APPLE-RADIUS=100;X-TITLE=Am Müllerb
 erg:geo:48.83691959999999,12.530326400000035
END:VEVENT
END:VCALENDAR