BEGIN:VCALENDAR
VERSION:2.0
PRODID:-//wp-events-plugin.com//7.2.3.1//EN
BEGIN:VEVENT
UID:130@karate-dojo-feldkirchen.de
DTSTART:20161203T143000Z
DTEND:20161203T163000Z
DTSTAMP:20161119T175215Z
URL:https://www.karate-dojo-feldkirchen.de/veranstaltungen/kyu-pruefung-16
 -5/
SUMMARY:Kyu-Prüfung 16-5
DESCRIPTION:Im Anschluss gemeinsames Abendessen.\n\nÄnderungen vorbehalten
 .
CATEGORIES:Kyu-Prüfung
LOCATION:Anton-Bruckner-Gymnasium\, Hans-Adlhoch-Straße 23\, Straubing\, 9
 4315\, Deutschland
GEO:48.873;12.563279999999963
X-APPLE-STRUCTURED-LOCATION;VALUE=URI;X-ADDRESS=Hans-Adlhoch-Straße 23\, S
 traubing\, 94315\, Deutschland;X-APPLE-RADIUS=100;X-TITLE=Anton-Bruckner-G
 ymnasium:geo:48.873,12.563279999999963
END:VEVENT
END:VCALENDAR