BEGIN:VCALENDAR
VERSION:2.0
PRODID:-//wp-events-plugin.com//7.2.3.1//EN
BEGIN:VEVENT
UID:194@karate-dojo-feldkirchen.de
DTSTART:20181208T143000Z
DTEND:20181208T160000Z
DTSTAMP:20180923T185532Z
URL:https://www.karate-dojo-feldkirchen.de/veranstaltungen/kyu-pruefung-18
 -4/
SUMMARY:Kyu-Prüfung 18-4
DESCRIPTION:
CATEGORIES:Kyu-Prüfung
LOCATION:Mehrzeckhalle Feldkirchen\, Hierlbacher Straße 2\, Feldkirchen\, 
 Bayern\, 94351\, Deutschland
GEO:48.83814;12.529049999999984
X-APPLE-STRUCTURED-LOCATION;VALUE=URI;X-ADDRESS=Hierlbacher Straße 2\, Fel
 dkirchen\, Bayern\, 94351\, Deutschland;X-APPLE-RADIUS=100;X-TITLE=Mehrzec
 khalle Feldkirchen:geo:48.83814,12.529049999999984
END:VEVENT
END:VCALENDAR