BEGIN:VCALENDAR
VERSION:2.0
PRODID:-//wp-events-plugin.com//7.2.3.1//EN
BEGIN:VEVENT
UID:46@karate-dojo-feldkirchen.de
DTSTART;VALUE=DATE:20140725
DTEND;VALUE=DATE:20140728
DTSTAMP:20140728T122836Z
URL:https://www.karate-dojo-feldkirchen.de/veranstaltungen/sommertraining/
SUMMARY:Sommertraining
DESCRIPTION:Einzelheiten werden im Training bekannt gegeben.
CATEGORIES:Fest,Lehrgänge,Training
END:VEVENT
END:VCALENDAR