BEGIN:VCALENDAR
VERSION:2.0
PRODID:-//wp-events-plugin.com//7.2.3.1//EN
BEGIN:VEVENT
UID:78@karate-dojo-feldkirchen.de
DTSTART:20150102T080000Z
DTEND:20150102T080000Z
DTSTAMP:20141207T104212Z
URL:https://www.karate-dojo-feldkirchen.de/veranstaltungen/vorstandschafts
 sitzung-15-1/
SUMMARY:Vorstandschaftssitzung 15-1
DESCRIPTION:
CATEGORIES:Vorstandssitzung
END:VEVENT
END:VCALENDAR