BEGIN:VCALENDAR
VERSION:2.0
PRODID:-//wp-events-plugin.com//7.2.3.1//EN
BEGIN:VEVENT
UID:251@karate-dojo-feldkirchen.de
DTSTART:20221019T170000Z
DTEND:20221019T183000Z
DTSTAMP:20220921T073419Z
URL:https://www.karate-dojo-feldkirchen.de/veranstaltungen/vortrag-mit-c-k
 onz-2/
SUMMARY:Vortrag mit C. Konz: Die Wirbelsäule – Das Kreuz mit dem Kreuz
DESCRIPTION:\n\n"Das Kreuz mit dem Kreuz"\n\nEin allzeit beliebtes Zitat\, 
 um die Beschaffenheit oder sogar den Zustand des Rückens zu beschreiben.
  \n\nJedoch eine treffende Beschreibung. Muskel-Skelett-Erkrankungen zäh
 len nach wie vor zu den häufigsten Ursachen bei Krankmeldungen in Betrieb
 en.\n\nDie Wirbelsäule\, als Träger des gesamten Oberkörpers\, wird tro
 tz ihrer enormen Wichtigkeit oft vernachlässigt. Sei es durch zu einseiti
 ge\, zu starke oder zu wenig Beanspruchung. Die Wirbelsäule will bewegt w
 erden. Erfahren Sie im zweiten Teil der Vortragsreihe was Sie über Fehlve
 rhalten und Fehlstellungen der Wirbelsäule wissen müssen\, sowie alltags
 nahe Möglichkeiten um Ihre Wirbelsäule \,\,buchstäblich" wieder in Form
  zu bringen.\n\nReferent: C. Konz\, M.A.\n\nEintritt: Mitglieder: frei\; N
 icht-Mitglieder: 5\,00 €\n\nDie Veranstaltung ist Teil einer Vortragsrei
 he.\n\n1. Teil: Das Sprunggelenk 21.09.202\n\n2. Teil: Die Wirbelsäule 19
 .10.2022\n\n3. Teil: Praxis Workshop 16.11.2022\n\n 
CATEGORIES:Vortrag
LOCATION:Mehrzweckhalle\, Hierlbacher Straße 2\, Feldkirchen\, Bayern\, 94
 351\, Deutschland
GEO:48.83814;12.529049999999984
X-APPLE-STRUCTURED-LOCATION;VALUE=URI;X-ADDRESS=Hierlbacher Straße 2\, Fel
 dkirchen\, Bayern\, 94351\, Deutschland;X-APPLE-RADIUS=100;X-TITLE=Mehrzwe
 ckhalle:geo:48.83814,12.529049999999984
END:VEVENT
END:VCALENDAR