BEGIN:VCALENDAR
VERSION:2.0
PRODID:-//wp-events-plugin.com//7.2.3.1//EN
BEGIN:VEVENT
UID:273@karate-dojo-feldkirchen.de
DTSTART:20221209T170000Z
DTEND:20221209T190000Z
DTSTAMP:20221105T151322Z
URL:https://www.karate-dojo-feldkirchen.de/veranstaltungen/weihnachtsfeier
 -7/
SUMMARY:Weihnachtsfeier
DESCRIPTION:Weihnachtsfeier für Jungend- und Erwachsenengruppe.
CATEGORIES:Weihnachtsfeier
LOCATION:Gasthaus Rohrmeier\, Hauptstraße 7\, Feldkirchen\, Bayern\, 94351
 \, Deutschland
GEO:48.83859;12.529210000000035
X-APPLE-STRUCTURED-LOCATION;VALUE=URI;X-ADDRESS=Hauptstraße 7\, Feldkirche
 n\, Bayern\, 94351\, Deutschland;X-APPLE-RADIUS=100;X-TITLE=Gasthaus Rohrm
 eier:geo:48.83859,12.529210000000035
END:VEVENT
END:VCALENDAR