BEGIN:VCALENDAR
VERSION:2.0
PRODID:-//wp-events-plugin.com//7.2.3.1//EN
BEGIN:VEVENT
UID:252@karate-dojo-feldkirchen.de
DTSTART:20221116T163000Z
DTEND:20221116T183000Z
DTSTAMP:20221029T200429Z
URL:https://www.karate-dojo-feldkirchen.de/veranstaltungen/workshop-mit-c-
 konz/
SUMMARY:Workshop mit C. Konz: Von der Theorie zur Praxis
DESCRIPTION:\n\n"Der Praxis-Workshop" \n\nDer krönende Abschluss: Wir geh
 en mit Ihnen auf die Matte. Denn auf die beiden theoretische Teile folgt n
 un die Praxis. Erfahren und vor allem erlernen sie hier leichte Übungen u
 m Ihren gesamten Körper zu aktivieren. \n\nÜbungen für Extremitäten u
 nd Rücken in Form von Kraft-\, Beweglichkeits- und Koordinationsübungen 
 werden Ihre Sinne und Muskeln aktivieren.\n\nIm 2\,5-stündigen Workshop n
 ehmen Sie alles mit\, um Ihren Alltag aktiv begegnen zu können.\n\nRefere
 nt: C. Konz\, M.A.\n\nEintritt: Mitglieder: frei\; Nicht-Mitglieder: 5\,00
  €\n\nDa die Plätze begrenzt sind\, ist eine Anmeldung unter info@oshir
 o-dojo-feldkirchen.de oder 0160 96497793 erforderlich.\n\nDie Veranstaltun
 g ist Teil einer Vortragsreihe.\n\n1. Teil: Das Sprunggelenk 21.09.202\n\n
 2. Teil: Die Wirbelsäule 19.10.2022\n\n3. Teil: Praxis Workshop 16.11.202
 2\n\n 
CATEGORIES:Lehrgänge
LOCATION:Mehrzeckhalle Feldkirchen\, Hierlbacher Straße 2\, Feldkirchen\, 
 Bayern\, 94351\, Deutschland
GEO:48.83814;12.529049999999984
X-APPLE-STRUCTURED-LOCATION;VALUE=URI;X-ADDRESS=Hierlbacher Straße 2\, Fel
 dkirchen\, Bayern\, 94351\, Deutschland;X-APPLE-RADIUS=100;X-TITLE=Mehrzec
 khalle Feldkirchen:geo:48.83814,12.529049999999984
END:VEVENT
END:VCALENDAR